Workbook
Name _Hlk64202837: 'סיכום הצעות'!$D$1

Sheet מחוון
A1: מס' מציע: ______________________
A4: סעיף ראשי | B4: סעיף משנה | C4: ההיקף הנדרש | D4: מרכיב ציון | F4: משקל | G4: היקף שהוצג | H4: ציון משוקלל לסעיף | I4: ציון כולל | J4: היקף מינימום | K4: היקף מקסימום | L4: הפרש | M4: =K5-J5 -> 3
A5: ניסיון המציע | B5: ניסיון בביצוע פרוייקטים כהגדרתם בתנאי הסף | C5: שנות ניסיון בביצוע הפעילות | D5: פחות מ- 3 שנים | E5: פסול | F5: 0.4 | H5: =IF(G5<J5,0,IF(G5=J5,#REF!,IF(G5>K5,#REF!,#REF!/(K5-J5)*(G5-J5)+#REF!))) -> 0 | J5: 3 | K5: 6 | L5: =SUM(F5:F17) -> 1
D6: 3 שנים | E6: 7
D7: 4-5 שנים | E7: לכל שנה +1
D8: 6 שנים ומעלה | E8: 10
C9: מספר משתתפים ממוצע בשנה | D9: פחות מ- 150 משתתפים | E9: פסול | F9: 0.3 | H9: =IF(G9<J9,0,IF(G9=J9,#REF!,IF(G9>K9,#REF!,#REF!/(K9-J9)*(G9-J9)+#REF!))) -> 0 | J9: 150 | K9: 300
D10: 150 משתתפים | E10: 7
D11: 151-225 משתתפים | E11: 8
D12: 226-299 | E12: 9
D13: 300 משתתפים ומעלה | E13: 10
B14: ניסיון בביצוע פרוייקטים כהגדרתם בסעיף 2.6.5.1 עבור החינוך הממלכתי דתי | C14: מספר משתתפים מצטבר בחמש השנים האחרונות | D14: עד 100 משתתפים | E14: 7 | F14: 0.3 | H14: =G14 -> 0 | I14: =H14*F14 -> 0 | J14: 0 | K14: 300
D15: 101-200 משתתפים | E15: 8
D16: 201-300 משתתפים | E16: 9
D17: 301 משתתפים ומעלה | E17: 10
A18: תכנית עבודה מוצעת | B18: איכות תכנית העבודה המוצעת המוצעת | C18: התמודדות עם אוכלוסיית נוער בסיכון | D18: רמה נמוכה | E18: 1 | F18: 0.16 | L18: =SUM(F18:F35) -> 1
D19: רמה בינונית | E19: 2
D20: רמה גבוהה | E20: 3
C21: התמודדות עם האתגרים הספציפיים של נוער בסיכון בחינוך הדתי | D21: רמה נמוכה | E21: 1 | F21: 0.16
D22: רמה בינונית | E22: 2
D23: רמה גבוהה | E23: 3
C24: הקצאת משאבים לביצוע התוכנית | D24: רמה נמוכה | E24: 1 | F24: 0.16
D25: רמה בינונית | E25: 2
D26: רמה גבוהה | E26: 3
C27: שיטת ביצוע מרכיב ההתנדבות בתוכנית | D27: רמה נמוכה | E27: 1 | F27: 0.16
D28: רמה בינונית | E28: 2
D29: רמה גבוהה | E29: 3
C30: הליכי בקרה ומדידת הצלחה | D30: רמה נמוכה | E30: 1 | F30: 0.16
D31: רמה בינונית | E31: 2
D32: רמה גבוהה | E32: 3
C33: התרשמות כללית | D33: רמה נמוכה | E33: 1 | F33: 0.2
D34: רמה בינונית | E34: 2
D35: רמה גבוהה | E35: 3
A36: חוות דעת על המציע | B36: חוות דעת שנלקחה מאנשי הקשר כפי שמפורט בטופס בדיקת ההצעות | C36: ציון 1 - 10 | D36: חוות דעת מס' 1 | F36: =1/3 -> 0.33333333 | H36: =G36*F36 -> 0 | L36: =SUM(F36:F38) -> 1
D37: חוות דעת מס' 2 | F37: =1/3 -> 0.33333333 | H37: =G37*F37 -> 0
D38: חוות דעת מס' 3 | F38: =1/3 -> 0.33333333 | H38: =G38*F38 -> 0
A39: צוות המציע | B39: רכזת ארצית | C39: שנות ניסיון בעבודה עם נערות בסיכון | D39: עד שלוש שנים | E39: 0 | F39: 0.4 | H39: =IF(G39<J39,0,IF(G39=J39,#REF!,IF(G39>K39,#REF!,#REF!/(K39-J39)*(G39-J39)+#REF!))) -> 0 | J39: 3 | K39: 6 | L39: =SUM(F39:F53) -> 1
D40: 3 שנים | E40: 7
D41: 4-5 שנים | E41: לכל שנה +1
D42: 6 שנים ומעלה | E42: 10
...

Sheet קריטריונים
A1: המשרד | B1: משרד החינוך | C1: מכרז מס': | D1: סיוע לנערות בסיכון מהמגזר הדתי | I1: דף: | J1: 1 | K1: קוד מכרז: | M1: =CELL("filename") -> C:\Users\shirm\Desktop\גיבוי 150322\משרד החינוך\נערות בסיכון חמד\[מחוון 2023 נערות בסיכון.xlsx]סיכום הצעות
A2: היחידה | B2: מינהל החינוך הממלכתי דתי | C2: ='סיכום הצעות'!C2 -> 10/3.2023 | I2: מתוך: | J2: 2 | K2: תאריך עדכון:
A3: פרוט הנושא | C3: יחידת ספירה | D3: משקל | E3: הצעה: | F3: 1 | G3: הצעה: | H3: 2 | I3: הצעה: | J3: 3 | K3: הצעה: | L3: 4 | M3: הערות
D4: יחסי | E4: ערך | F4: ציון | G4: ערך | H4: ציון | I4: ערך | J4: ציון | K4: ערך | L4: ציון
A5: נסיון המציע | B5: =מחוון!C5 -> שנות ניסיון בביצוע הפעילות | C5: עפ"י היקפים מינימליים נדרשים | D5: 0.4 | M5: עפ"י המחוון
B6: =מחוון!C9 -> מספר משתתפים ממוצע בשנה | C6: עפ"י היקפים מינימליים נדרשים | D6: 0.3
B7: =מחוון!C14 -> מספר משתתפים מצטבר בחמש השנים האחרונות | C7: עפ"י היקפים מינימליים נדרשים | D7: 0.3 | M7: עפ"י המחוון
B8: ציון משוקלל לנושא | D8: =SUM(D5:D7) -> 1
A9: איכות התוכניות | B9: איכות התוכניות | C9: לפי קריטריונים | D9: 1
B10: ציון משוקלל לנושא | C10: ציון 1-10 | D10: 1
A11: חוות דעת | B11: חוות דעת | C11: ציון 1-10 | D11: 1 | M11: עפ"י המחוון
B12: ציון משוקלל לנושא | D12: =SUM(D11) -> 1
A13: רכזת ארצית | B13: =מחוון!C39 -> שנות ניסיון בעבודה עם נערות בסיכון | C13: ציון 1-10 | D13: 0.4 | M13: עפ"י המחוון
B14: =מחוון!C43 -> שנות ניסיון בניהול פרויקט אזורי/ ארצי בתחום חברתי, חינוכי או טיפולי בהיקף של לפחות 100 משתתפות | C14: ציון 1-10 | D14: 0.3 | M14: עפ"י המחוון
B15: =מחוון!C47 -> השכלה באחד מהמקצועות הבאים: חינוך, חינוך בלתי פורמלי, עבודה סוציאלית, פסיכולוגיה, מדעי החברה, ייעוץ חינוכי או כל תואר רלוונטי אחר | D15: 0.2
B16: חוות דעת על הרכזת הארצית | C16: ציון 1-10 | D16: 0.1 | M16: עפ"י המחוון
B17: ציון משוקלל לנושא | D17: =SUM(D13:D16) -> 1
A18: הצעת המחיר | B18: פרוט הנושא | C18: יחידת חישוב | D18: כמות | E18: הצעה: | F18: 1 | G18: הצעה: | H18: 2 | I18: הצעה: | J18: 3 | K18: הצעה: | L18: 4 | M18: הערות
E19: ערך | F19: ציון | G19: ערך | H19: ציון | I19: ערך | J19: ציון | K19: ערך | L19: ציון
B20: מחיר עבור הפעלת קבוצת נערות על כל מרכיבי התוכנית | C20: קבוצה | D20: 18
B23: סה"כ הצעת המחיר ללא מע"מ
B24: סה"כ הצעת המחיר כולל מע"מ

Sheet סיכום הצעות
A1: משרד החינוך | C1: מכרז מס': | D1: סיוע לנערות בסיכון מהמגזר הדתי | I1: דף: | J1: 2 | K1: קוד מכרז: | L1: =CELL("filename") -> C:\Users\shirm\Desktop\גיבוי 150322\משרד החינוך\נערות בסיכון חמד\[מחוון 2023 נערות בסיכון.xlsx]סיכום הצעות
A2: מינהל החינוך הממלכתי דתי | C2: 10/3.2023 | I2: מתוך: | J2: 2 | K2: תאריך עדכון:
D3: סה"כ משקל סעיפי איכות: | H3: =+C23 -> 0.5 | I3: משקל מחיר: | J3: =+C24 -> 0.5 | K3: הערכה כוללת
A4: מספר | B4: שם המציע | C4: הקריטריון | D4: נסיון הגוף המציע | E4: איכות התוכניות המוצעות | F4: חוות דעת | G4: רכזת ארצית | H4: ציון סעיפי האיכות | I4: מחיר משוקלל | J4: ציון המחיר | K4: ציון סופי משוקלל | L4: דירוג יחסי
C7: משקל יחסי => | D7: 0.4 | E7: 0.2 | F7: 0.1 | G7: 0.3 | H7: =SUM(D7:G7) -> 1 | I7: 1 | J7: 1
A8: 1 | C8: ציון מוחלט =>
C9: ציון יחסי =>>
A10: 2 | C10: ציון מוחלט =>
C11: ציון יחסי =>>
A12: 3 | C12: ציון מוחלט =>
C13: ציון יחסי =>>
A14: 4 | C14: ציון מוחלט =>
C15: ציון יחסי =>>
A16: 5 | C16: ציון מוחלט =>
C17: ציון יחסי =>>
A18: 6 | C18: ציון מוחלט =>
C19: ציון יחסי =>>
I20: =MIN(I8,I10,I12,I14,I16,I18) -> 0
B23: משקל סעיפי האיכות | C23: 0.5
B24: משקל מחיר | C24: 0.5
B25: סה"כ | C25: =SUM(C23:C24) -> 1
B27: ציון מעבר מציון כולל של סעיפי האיכות לציון המחיר | C27: 0.8
B29: ציון מינימום נדרש בכל אחד מסעיפי האיכות בפני עצמו הינו | G29: 0.7
